BEGIN:VCALENDAR
VERSION:2.0
PRODID:-//Sabre//Sabre VObject 4.5.8//EN
CALSCALE:GREGORIAN
BEGIN:VEVENT
UID:sabre-vobject-3bb960e8-7e6f-4d12-8e49-a9d64e4ba643
DTSTAMP:20260422T231541Z
SUMMARY:Starke Mitarbeitende\, starke Unternehmen: Mehr Sicherheit durch Cy
 bersicherheitskompetenzen
DESCRIPTION:https://regioningolstadt.com/starke-mitarbeitende-starke-untern
 ehmen-mehr-sicherheit-durch-cybersicherheitskompetenzen_id32967
DTSTART;TZID=Europe/Berlin:20240611T150000
DTEND;TZID=Europe/Berlin:20240611T160000
LOCATION:Online-Veranstaltung\, \,  
END:VEVENT
END:VCALENDAR
