BEGIN:VCALENDAR
VERSION:2.0
PRODID:-//Sabre//Sabre VObject 4.5.8//EN
CALSCALE:GREGORIAN
BEGIN:VEVENT
UID:sabre-vobject-2b34ad4d-236d-45f5-a13f-7cab53d258a9
DTSTAMP:20260423T045003Z
SUMMARY:Arbeitgebendenmarke & Kommunikation – mit Vereinbarkeit punkten
DESCRIPTION:https://regioningolstadt.com/arbeitgebendenmarke-kommunikation-
 mit-vereinbarkeit-punkten_id32966
DTSTART;TZID=Europe/Berlin:20240611T100000
DTEND;TZID=Europe/Berlin:20240611T110000
LOCATION:Online-Veranstaltung\, \,  
END:VEVENT
END:VCALENDAR
