BEGIN:VCALENDAR
VERSION:2.0
PRODID:-//Sabre//Sabre VObject 4.5.8//EN
CALSCALE:GREGORIAN
BEGIN:VEVENT
UID:sabre-vobject-53e1adc4-c541-4b18-a034-2cb923d88ca7
DTSTAMP:20260420T030149Z
SUMMARY:Verschlüsselt\, was nun?
DESCRIPTION:https://regioningolstadt.com/verschluesselt-was-nun_id32965
DTSTART;TZID=Europe/Berlin:20240529T150000
DTEND;TZID=Europe/Berlin:20240529T170000
LOCATION:Online-Veranstaltung\, \,  
END:VEVENT
END:VCALENDAR
