BEGIN:VCALENDAR
VERSION:2.0
PRODID:-//Sabre//Sabre VObject 4.5.8//EN
CALSCALE:GREGORIAN
BEGIN:VEVENT
UID:sabre-vobject-a1919e8d-74b2-407f-a875-85964f32e5d0
DTSTAMP:20260424T012231Z
SUMMARY:Radlaktionsmonat Region 10 - auf Grund der Hochwasserlage entfällt
  der Termin 
DESCRIPTION:https://regioningolstadt.com/radlaktionsmonat-region-10-auf-gru
 nd-der-hochwasserlage-entfaellt-der-termin_id32954
DTSTART;TZID=Europe/Berlin:20240604T130000
DTEND;TZID=Europe/Berlin:20240604T170000
LOCATION:Neuburg an der Donau\, Treffpunkt Staustufe Bittenbrunn\, Kraftwer
 kstraße (Start und Ziel)
END:VEVENT
END:VCALENDAR
