BEGIN:VCALENDAR
VERSION:2.0
PRODID:-//Sabre//Sabre VObject 4.5.8//EN
CALSCALE:GREGORIAN
BEGIN:VEVENT
UID:sabre-vobject-3e2589a5-8286-4ed1-b951-c647ca60f20b
DTSTAMP:20260424T025846Z
SUMMARY:Radlaktionsmonat Region 10 - entfällt krankheitsbedingt
DESCRIPTION:https://regioningolstadt.com/radlaktionsmonat-region-10-entfael
 lt-krankheitsbedingt_id32953
DTSTART;TZID=Europe/Berlin:20240601T130000
DTEND;TZID=Europe/Berlin:20240601T170000
LOCATION:Bahnhof in Brunnen
END:VEVENT
END:VCALENDAR
