BEGIN:VCALENDAR
VERSION:2.0
PRODID:-//Sabre//Sabre VObject 4.5.8//EN
CALSCALE:GREGORIAN
BEGIN:VEVENT
UID:sabre-vobject-c0fec346-0bde-4045-bfbd-d63f99961bae
DTSTAMP:20260423T041751Z
SUMMARY:Internationaler Donautag 2024
DESCRIPTION:https://regioningolstadt.com/internationaler-donautag-2024_id32
 933
DTSTART;TZID=Europe/Berlin:20240629T140000
DTEND;TZID=Europe/Berlin:20240629T183000
LOCATION:Neuburg an der Donau
END:VEVENT
END:VCALENDAR
