BEGIN:VCALENDAR
VERSION:2.0
PRODID:-//Sabre//Sabre VObject 4.5.8//EN
CALSCALE:GREGORIAN
BEGIN:VEVENT
UID:sabre-vobject-d3e22697-5c32-4bf9-bf14-f5e67f9bf5a1
DTSTAMP:20260422T203938Z
SUMMARY:Kumm\, geh' ma Kripperl schaugn
DESCRIPTION:https://regioningolstadt.com/kumm-geh-ma-kripperl-schaugn_id329
 15
DTSTART;TZID=Europe/Berlin:20241215T140000
DTEND;TZID=Europe/Berlin:20241215T160000
LOCATION:Vor Tourist Information am Rathausplatz\, Moritzstraße 19\, 85049
  Ingolstadt
END:VEVENT
END:VCALENDAR
