BEGIN:VCALENDAR
VERSION:2.0
PRODID:-//Sabre//Sabre VObject 4.5.8//EN
CALSCALE:GREGORIAN
BEGIN:VEVENT
UID:sabre-vobject-79000a20-f48b-4782-97fd-4337fc0cbb72
DTSTAMP:20260422T191555Z
SUMMARY:Geschichte mit Genuss im Advent
DESCRIPTION:https://regioningolstadt.com/geschichte-mit-genuss-im-advent_id
 32914
DTSTART;TZID=Europe/Berlin:20241215T110000
DTEND;TZID=Europe/Berlin:20241215T130000
LOCATION:Vor Tourist Information am Rathausplatz\, Moritzstraße 19\, 85049
  Ingolstadt
END:VEVENT
END:VCALENDAR
