BEGIN:VCALENDAR
VERSION:2.0
PRODID:-//Sabre//Sabre VObject 4.5.8//EN
CALSCALE:GREGORIAN
BEGIN:VEVENT
UID:sabre-vobject-8b7c68a1-5ec4-4e89-85c2-997da6b663ee
DTSTAMP:20260419T154227Z
SUMMARY:Freiluft-Training (Gymnastik)
DESCRIPTION:https://regioningolstadt.com/freiluft-training-gymnastik_id3290
 8
DTSTART;TZID=Europe/Berlin:20260428T100000
DTEND;TZID=Europe/Berlin:20260428T104500
LOCATION:Bürgerhaus Ostend\, Berliner Straße 164\, 86633 Neuburg an der D
 onau
END:VEVENT
END:VCALENDAR
