BEGIN:VCALENDAR
VERSION:2.0
PRODID:-//Sabre//Sabre VObject 4.5.8//EN
CALSCALE:GREGORIAN
BEGIN:VEVENT
UID:sabre-vobject-f532e035-190d-4322-b8f8-477e3d939ff9
DTSTAMP:20260424T171642Z
SUMMARY:PIUS EICHLINGER UND FREUNDE
DESCRIPTION:https://regioningolstadt.com/pius-eichlinger-und-freunde_id3287
 5
DTSTART;TZID=Europe/Berlin:20240607T180000
DTEND;TZID=Europe/Berlin:20240630T180000
LOCATION:Städtische Galerie im Theater Ingolstadt\, Schloßlände 1\, 8504
 9 Ingolstadt
END:VEVENT
END:VCALENDAR
