BEGIN:VCALENDAR
VERSION:2.0
PRODID:-//Sabre//Sabre VObject 4.5.8//EN
CALSCALE:GREGORIAN
BEGIN:VEVENT
UID:sabre-vobject-bfe07f2f-8d69-48fb-9e39-14ededc8eef1
DTSTAMP:20260422T190958Z
SUMMARY:Essbare Wildpflanzen-Workshop
DESCRIPTION:https://regioningolstadt.com/essbare-wildpflanzen-workshop_id32
 808
DTSTART;TZID=Europe/Berlin:20240720T153000
DTEND;TZID=Europe/Berlin:20240720T183000
LOCATION:Piuspark\, Pavillon Imkerverein\, \, 85057 Ingolstadt
END:VEVENT
END:VCALENDAR
