BEGIN:VCALENDAR
VERSION:2.0
PRODID:-//Sabre//Sabre VObject 4.5.8//EN
CALSCALE:GREGORIAN
BEGIN:VEVENT
UID:sabre-vobject-9344ea27-1f7f-42e8-a768-4119ba30de0b
DTSTAMP:20260420T090754Z
SUMMARY:Tag der offenen Tür
DESCRIPTION:https://regioningolstadt.com/tag-der-offenen-tuer_id32807
DTSTART;TZID=Europe/Berlin:20240720T100000
DTEND;TZID=Europe/Berlin:20240720T180000
LOCATION:Kunst-Werk im Klenzepark e.V.\, Flankenbatterie 105\, 85051 Ingols
 tadt
END:VEVENT
END:VCALENDAR
