BEGIN:VCALENDAR
VERSION:2.0
PRODID:-//Sabre//Sabre VObject 4.5.8//EN
CALSCALE:GREGORIAN
BEGIN:VEVENT
UID:sabre-vobject-a1742138-ca35-4c33-8c51-7ad15e2540b7
DTSTAMP:20260422T081951Z
SUMMARY:Der Erste Weltkrieg
DESCRIPTION:https://regioningolstadt.com/der-erste-weltkrieg_id32805
DTSTART;TZID=Europe/Berlin:20240707T140000
DTEND;TZID=Europe/Berlin:20240707T160000
LOCATION:Museum des Ersten Weltkriegs\, \,  
END:VEVENT
END:VCALENDAR
