BEGIN:VCALENDAR
VERSION:2.0
PRODID:-//Sabre//Sabre VObject 4.5.8//EN
CALSCALE:GREGORIAN
BEGIN:VEVENT
UID:sabre-vobject-bf9dea90-9649-45c9-ba8e-e103ad6fa33a
DTSTAMP:20260424T220217Z
SUMMARY:HEIMAT.ERLEBNISTAG 2024
DESCRIPTION:https://regioningolstadt.com/heimat-erlebnistag-2024_id32779
DTSTART;TZID=Europe/Berlin:20240505T130000
DTEND;TZID=Europe/Berlin:20240505T180000
LOCATION:Treffpunkt: Winkelhausen\, Gasthof "Zu Müllers"\, Römerstraße 9
 \, 86571 Langenmosen
END:VEVENT
END:VCALENDAR
