BEGIN:VCALENDAR
VERSION:2.0
PRODID:-//Sabre//Sabre VObject 4.5.8//EN
CALSCALE:GREGORIAN
BEGIN:VEVENT
UID:sabre-vobject-e0f1e526-bc2f-4526-b6ac-2b79758c9d5e
DTSTAMP:20260423T020942Z
SUMMARY:online: Von der Klimabilanz zur Klimaneutralität
DESCRIPTION:https://regioningolstadt.com/online-von-der-klimabilanz-zur-kli
 maneutralitaet_id32729
DTSTART;TZID=Europe/Berlin:20240611T110000
DTEND;TZID=Europe/Berlin:20240611T120000
LOCATION:Online-Veranstaltung\, \,  
END:VEVENT
END:VCALENDAR
