BEGIN:VCALENDAR
VERSION:2.0
PRODID:-//Sabre//Sabre VObject 4.5.8//EN
CALSCALE:GREGORIAN
BEGIN:VEVENT
UID:sabre-vobject-49b4b6c2-7541-451f-af94-3b60086f181b
DTSTAMP:20260420T192936Z
SUMMARY:Saison-Eröffnungstour Ingolstadt
DESCRIPTION:https://regioningolstadt.com/saison-eroeffnungstour-ingolstadt_
 id32722
DTSTART;TZID=Europe/Berlin:20240414T100000
DTEND;TZID=Europe/Berlin:20240414T160000
LOCATION:RADHAUS Ingolstadt\, Bei der Arena 7\, 85053 Ingolstadt
END:VEVENT
END:VCALENDAR
