BEGIN:VCALENDAR
VERSION:2.0
PRODID:-//Sabre//Sabre VObject 4.5.8//EN
CALSCALE:GREGORIAN
BEGIN:VEVENT
UID:sabre-vobject-fe214e13-4808-4c32-b42b-ba531cff44e6
DTSTAMP:20260425T024936Z
SUMMARY:All you need is love: Eine Führung mit viel Liebe
DESCRIPTION:https://regioningolstadt.com/all-you-need-is-love-eine-fuehrung
 -mit-viel-liebe_id32691
DTSTART;TZID=Europe/Berlin:20240727T180000
DTEND;TZID=Europe/Berlin:20240727T193000
LOCATION:Vor Tourist Information am Rathausplatz\, Moritzstraße 19\, 85049
  Ingolstadt
END:VEVENT
END:VCALENDAR
