BEGIN:VCALENDAR
VERSION:2.0
PRODID:-//Sabre//Sabre VObject 4.5.8//EN
CALSCALE:GREGORIAN
BEGIN:VEVENT
UID:sabre-vobject-651e8faa-1b28-489f-867d-8a957195858a
DTSTAMP:20260422T114302Z
SUMMARY:Geschichte mit Genuss - Handel im Wandel
DESCRIPTION:https://regioningolstadt.com/geschichte-mit-genuss-handel-im-wa
 ndel_id32690
DTSTART;TZID=Europe/Berlin:20240720T110000
DTEND;TZID=Europe/Berlin:20240720T130000
LOCATION:Vor Tourist Information am Rathausplatz\, Moritzstraße 19\, 85049
  Ingolstadt
END:VEVENT
END:VCALENDAR
