BEGIN:VCALENDAR
VERSION:2.0
PRODID:-//Sabre//Sabre VObject 4.5.8//EN
CALSCALE:GREGORIAN
BEGIN:VEVENT
UID:sabre-vobject-815ad87c-e14d-48bc-bbd2-125b5ac0ce42
DTSTAMP:20260420T092431Z
SUMMARY:3. FunArena Charity Sommerfest powered by BRAUN Entsorgung
DESCRIPTION:https://regioningolstadt.com/3-funarena-charity-sommerfest-powe
 red-by-braun-entsorgung_id32689
DTSTART;TZID=Europe/Berlin:20240714T100000
DTEND;TZID=Europe/Berlin:20240714T183000
LOCATION:FunArena Ingolstadt\, Manchinger Str. 128\, 85053 Ingolstadt
END:VEVENT
END:VCALENDAR
