BEGIN:VCALENDAR
VERSION:2.0
PRODID:-//Sabre//Sabre VObject 4.5.8//EN
CALSCALE:GREGORIAN
BEGIN:VEVENT
UID:sabre-vobject-10789c7b-d82c-420c-98fd-2627a01a0c43
DTSTAMP:20260426T021310Z
SUMMARY:Vom Werden einer Verfassung und eines Museums - Vortrag von Uta Pie
 reth
DESCRIPTION:https://regioningolstadt.com/vom-werden-einer-verfassung-und-ei
 nes-museums-vortrag-von-uta-piereth_id32686
DTSTART;TZID=Europe/Berlin:20240618T180000
DURATION:PT30M
LOCATION:Barocksaal im Stadtmuseum Ingolstadt\, Auf der Schanz 45\, 85049 I
 ngolstadt
END:VEVENT
END:VCALENDAR
