BEGIN:VCALENDAR
VERSION:2.0
PRODID:-//Sabre//Sabre VObject 4.5.8//EN
CALSCALE:GREGORIAN
BEGIN:VEVENT
UID:sabre-vobject-fe2d7682-7a6d-4571-88a5-8d5dab9558d4
DTSTAMP:20260424T155806Z
SUMMARY:Geschichte mit Genuss - Handel im Wandel
DESCRIPTION:https://regioningolstadt.com/geschichte-mit-genuss-handel-im-wa
 ndel_id32683
DTSTART;TZID=Europe/Berlin:20240615T110000
DTEND;TZID=Europe/Berlin:20240615T130000
LOCATION:Vor Tourist Information am Rathausplatz\, Moritzstraße 19\, 85049
  Ingolstadt
END:VEVENT
END:VCALENDAR
