BEGIN:VCALENDAR
VERSION:2.0
PRODID:-//Sabre//Sabre VObject 4.5.8//EN
CALSCALE:GREGORIAN
BEGIN:VEVENT
UID:sabre-vobject-edbd0198-846a-442c-9261-66459c7f1171
DTSTAMP:20260422T215245Z
SUMMARY:Ringvorlesung „Energie – Umwelt – Nachhaltigkeit“
DESCRIPTION:https://regioningolstadt.com/ringvorlesung-energie-umwelt-nachh
 altigkeit_id32682
DTSTART;TZID=Europe/Berlin:20240611T183000
DTEND;TZID=Europe/Berlin:20240611T193000
LOCATION:Online-Veranstaltung\, \,  
END:VEVENT
END:VCALENDAR
