BEGIN:VCALENDAR
VERSION:2.0
PRODID:-//Sabre//Sabre VObject 4.5.8//EN
CALSCALE:GREGORIAN
BEGIN:VEVENT
UID:sabre-vobject-71bd875b-6e65-4ef7-89b1-e6a61099e5d2
DTSTAMP:20260423T130326Z
SUMMARY:Stromaufwärts Festival
DESCRIPTION:https://regioningolstadt.com/stromaufwaerts-festival_id32680
DTSTART;TZID=Europe/Berlin:20240613T100000
DTEND;TZID=Europe/Berlin:20240615T235959
LOCATION:brigk:Digitales Gründerzentrum der Region Ingolstadt GmbH\, Schlo
 ßlände 26\, 85049 Ingolstadt
END:VEVENT
END:VCALENDAR
