BEGIN:VCALENDAR
VERSION:2.0
PRODID:-//Sabre//Sabre VObject 4.5.8//EN
CALSCALE:GREGORIAN
BEGIN:VEVENT
UID:sabre-vobject-fe6e187a-1b66-4794-a82f-fdf13f13b8ce
DTSTAMP:20260420T103046Z
SUMMARY:"Gemeinsam Stark: Zeit der Verbundenheit und Inspirationen erleben"
DESCRIPTION:https://regioningolstadt.com/gemeinsam-stark-zeit-der-verbunden
 heit-und-inspirationen-erleben_id32658
DTSTART;TZID=Europe/Berlin:20240413T150000
DTEND;TZID=Europe/Berlin:20240413T170000
LOCATION:Die Erlebenswerkstatt\, Milchstrasse 8\, 85049 Ingolstadt
END:VEVENT
END:VCALENDAR
