BEGIN:VCALENDAR
VERSION:2.0
PRODID:-//Sabre//Sabre VObject 4.5.8//EN
CALSCALE:GREGORIAN
BEGIN:VEVENT
UID:sabre-vobject-6d67070d-c65f-441b-8410-3e79f588ae19
DTSTAMP:20260425T154139Z
SUMMARY:ORIENTIERUNGS- UND FÖRDERBERATUNG
DESCRIPTION:https://regioningolstadt.com/orientierungs-und-foerderberatung_
 id32619
DTSTART;TZID=Europe/Berlin:20240618T090000
DTEND;TZID=Europe/Berlin:20240618T140000
LOCATION:Online-Veranstaltung\, \,  
END:VEVENT
END:VCALENDAR
