BEGIN:VCALENDAR
VERSION:2.0
PRODID:-//Sabre//Sabre VObject 4.5.8//EN
CALSCALE:GREGORIAN
BEGIN:VEVENT
UID:sabre-vobject-7e6b5266-3554-4f63-9b8c-29f0da9b9614
DTSTAMP:20260423T112610Z
SUMMARY:ORIENTIERUNGS- UND FÖRDERBERATUNG
DESCRIPTION:https://regioningolstadt.com/orientierungs-und-foerderberatung_
 id32618
DTSTART;TZID=Europe/Berlin:20240613T090000
DTEND;TZID=Europe/Berlin:20240613T140000
LOCATION:Online-Veranstaltung\, \,  
END:VEVENT
END:VCALENDAR
