BEGIN:VCALENDAR
VERSION:2.0
PRODID:-//Sabre//Sabre VObject 4.5.8//EN
CALSCALE:GREGORIAN
BEGIN:VEVENT
UID:sabre-vobject-5246ca15-0a33-4773-8f0d-ada71289cbde
DTSTAMP:20260423T080320Z
SUMMARY:ORIENTIERUNGS- UND FÖRDERBERATUNG
DESCRIPTION:https://regioningolstadt.com/orientierungs-und-foerderberatung_
 id32617
DTSTART;TZID=Europe/Berlin:20240611T090000
DTEND;TZID=Europe/Berlin:20240611T140000
LOCATION:Online-Veranstaltung\, \,  
END:VEVENT
END:VCALENDAR
