BEGIN:VCALENDAR
VERSION:2.0
PRODID:-//Sabre//Sabre VObject 4.5.8//EN
CALSCALE:GREGORIAN
BEGIN:VEVENT
UID:sabre-vobject-6186a8a3-d8fe-4d76-b642-4bd245ffb3d6
DTSTAMP:20260426T005025Z
SUMMARY:ORIENTIERUNGS- UND FÖRDERBERATUNG
DESCRIPTION:https://regioningolstadt.com/orientierungs-und-foerderberatung_
 id32616
DTSTART;TZID=Europe/Berlin:20240606T090000
DTEND;TZID=Europe/Berlin:20240606T140000
LOCATION:Online-Veranstaltung\, \,  
END:VEVENT
END:VCALENDAR
