BEGIN:VCALENDAR
VERSION:2.0
PRODID:-//Sabre//Sabre VObject 4.5.8//EN
CALSCALE:GREGORIAN
BEGIN:VEVENT
UID:sabre-vobject-e7a2bb25-406f-4477-9f5d-13699f4a55a9
DTSTAMP:20260421T155441Z
SUMMARY:ORIENTIERUNGS- UND FÖRDERBERATUNG
DESCRIPTION:https://regioningolstadt.com/orientierungs-und-foerderberatung_
 id32615
DTSTART;TZID=Europe/Berlin:20240604T090000
DTEND;TZID=Europe/Berlin:20240604T140000
LOCATION:Online-Veranstaltung\, \,  
END:VEVENT
END:VCALENDAR
