BEGIN:VCALENDAR
VERSION:2.0
PRODID:-//Sabre//Sabre VObject 4.5.8//EN
CALSCALE:GREGORIAN
BEGIN:VEVENT
UID:sabre-vobject-c94fa0a9-5623-4993-89cf-8a6f7910953c
DTSTAMP:20260420T012800Z
SUMMARY:Offene Lesebühne im Herzogskasten
DESCRIPTION:https://regioningolstadt.com/offene-lesebuehne-im-herzogskasten
 _id32610
DTSTART;TZID=Europe/Berlin:20240416T163000
DTEND;TZID=Europe/Berlin:20240416T173000
LOCATION:Stadtbücherei im Herzogskasten\, Hallstraße 2 - 4\, 85049 Ingols
 tadt
END:VEVENT
END:VCALENDAR
