BEGIN:VCALENDAR
VERSION:2.0
PRODID:-//Sabre//Sabre VObject 4.5.8//EN
CALSCALE:GREGORIAN
BEGIN:VEVENT
UID:sabre-vobject-be80ec20-165b-46a1-a474-83d9127a6fbd
DTSTAMP:20260420T094703Z
SUMMARY:ORIENTIERUNGS- UND FÖRDERBERATUNG
DESCRIPTION:https://regioningolstadt.com/orientierungs-und-foerderberatung_
 id32609
DTSTART;TZID=Europe/Berlin:20240416T100000
DTEND;TZID=Europe/Berlin:20240416T120000
LOCATION:Online-Veranstaltung\, \,  
END:VEVENT
END:VCALENDAR
