BEGIN:VCALENDAR
VERSION:2.0
PRODID:-//Sabre//Sabre VObject 4.5.8//EN
CALSCALE:GREGORIAN
BEGIN:VEVENT
UID:sabre-vobject-8f24cbc9-008b-4bd8-aa57-c004092db6ba
DTSTAMP:20260420T013558Z
SUMMARY:IN-City Mobilitätstag
DESCRIPTION:https://regioningolstadt.com/in-city-mobilitaetstag_id32577
DTSTART;TZID=Europe/Berlin:20240413T100000
DTEND;TZID=Europe/Berlin:20240413T180000
LOCATION:Innenstadt\, \,  
END:VEVENT
END:VCALENDAR
