BEGIN:VCALENDAR
VERSION:2.0
PRODID:-//Sabre//Sabre VObject 4.5.8//EN
CALSCALE:GREGORIAN
BEGIN:VEVENT
UID:sabre-vobject-99500531-9e3a-4465-b7af-1b04fd09b32d
DTSTAMP:20260424T214625Z
SUMMARY:ON Campus Festival
DESCRIPTION:https://regioningolstadt.com/on-campus-festival_id32551
DTSTART;TZID=Europe/Berlin:20240607T160000
DURATION:PT30M
LOCATION:Technische Hochschule Ingolstadt Campusgelände\, Esplanade 10\, 8
 5049 Ingolstadt
END:VEVENT
END:VCALENDAR
