BEGIN:VCALENDAR
VERSION:2.0
PRODID:-//Sabre//Sabre VObject 4.5.8//EN
CALSCALE:GREGORIAN
BEGIN:VEVENT
UID:sabre-vobject-557796be-5aa0-456a-8275-ec50308ad2c5
DTSTAMP:20260420T223841Z
SUMMARY:Deutsch-Holländischer Stoffmarkt
DESCRIPTION:https://regioningolstadt.com/deutsch-hollaendischer-stoffmarkt_
 id32548
DTSTART;TZID=Europe/Berlin:20240414T120000
DTEND;TZID=Europe/Berlin:20240414T235959
LOCATION:Festplatz Ingolstadt\, \,  
END:VEVENT
END:VCALENDAR
