BEGIN:VCALENDAR
VERSION:2.0
PRODID:-//Sabre//Sabre VObject 4.5.8//EN
CALSCALE:GREGORIAN
BEGIN:VEVENT
UID:sabre-vobject-e9245b8a-2474-4c22-a106-459b7ebfa850
DTSTAMP:20260420T013432Z
SUMMARY:KINDERATELIER IM MKK
DESCRIPTION:https://regioningolstadt.com/kinderatelier-im-mkk_id32461
DTSTART;TZID=Europe/Berlin:20240413T100000
DTEND;TZID=Europe/Berlin:20240413T120000
LOCATION:Museum für Konkrete Kunst\, Tränktorstraße 6 - 8\, 85049 Ingols
 tadt
END:VEVENT
END:VCALENDAR
