BEGIN:VCALENDAR
VERSION:2.0
PRODID:-//Sabre//Sabre VObject 4.5.8//EN
CALSCALE:GREGORIAN
BEGIN:VEVENT
UID:sabre-vobject-5147c363-fbb8-4d55-bb58-54d9f13d30cc
DTSTAMP:20260425T142251Z
SUMMARY:eatREADsleep podcast-session
DESCRIPTION:https://regioningolstadt.com/eatreadsleep-podcast-session_id324
 56
DTSTART;TZID=Europe/Berlin:20240606T180000
DTEND;TZID=Europe/Berlin:20240606T200000
LOCATION:Kulturzentrum Ingolstadt Halle 9\, Elisabethstr. 9b\, 85051 Ingols
 tadt
END:VEVENT
END:VCALENDAR
