BEGIN:VCALENDAR
VERSION:2.0
PRODID:-//Sabre//Sabre VObject 4.5.8//EN
CALSCALE:GREGORIAN
BEGIN:VEVENT
UID:sabre-vobject-b1424d24-a024-4acf-912b-a73fa48270f6
DTSTAMP:20260420T210542Z
SUMMARY:Deutsch-Holländischer Stoffmarkt
DESCRIPTION:https://regioningolstadt.com/deutsch-hollaendischer-stoffmarkt_
 id32444
DTSTART;TZID=Europe/Berlin:20240414T110000
DTEND;TZID=Europe/Berlin:20240414T170000
LOCATION:Festplatz Ingolstadt\, \,  
END:VEVENT
END:VCALENDAR
