BEGIN:VCALENDAR
VERSION:2.0
PRODID:-//Sabre//Sabre VObject 4.5.8//EN
CALSCALE:GREGORIAN
BEGIN:VEVENT
UID:sabre-vobject-023b7bcb-6db7-4807-bc1f-6340e6a76a29
DTSTAMP:20260426T035001Z
SUMMARY:Vortrag zur Fußball Europa-Meisterschaft
DESCRIPTION:https://regioningolstadt.com/vortrag-zur-fussball-europa-meiste
 rschaft_id32432
DTSTART;TZID=Europe/Berlin:20240605T180000
DURATION:PT30M
LOCATION:Kolping Akademie\, Johannesstraße 11\, 85049 Ingolstadt
END:VEVENT
END:VCALENDAR
