BEGIN:VCALENDAR
VERSION:2.0
PRODID:-//Sabre//Sabre VObject 4.5.8//EN
CALSCALE:GREGORIAN
BEGIN:VEVENT
UID:sabre-vobject-d71dbe5a-e607-4501-88d4-9de4a3c8fc6a
DTSTAMP:20260420T061037Z
SUMMARY:Gartenführung: Pflanzen der Bibel
DESCRIPTION:https://regioningolstadt.com/gartenfuehrung-pflanzen-der-bibel_
 id32431
DTSTART;TZID=Europe/Berlin:20240530T150000
DTEND;TZID=Europe/Berlin:20240530T160000
LOCATION:Deutsches Medizinhistorisches Museum\, Anatomiestraße 18 – 20\,
  85049 Ingolstadt
END:VEVENT
END:VCALENDAR
