BEGIN:VCALENDAR
VERSION:2.0
PRODID:-//Sabre//Sabre VObject 4.5.8//EN
CALSCALE:GREGORIAN
BEGIN:VEVENT
UID:sabre-vobject-156eff89-ab01-405a-99cf-f7094af420cb
DTSTAMP:20260420T030248Z
SUMMARY:Vortrag: Für alle Fälle - Unfallchirurgie!
DESCRIPTION:https://regioningolstadt.com/vortrag-fuer-alle-faelle-unfallchi
 rurgie_id32430
DTSTART;TZID=Europe/Berlin:20240529T190000
DTEND;TZID=Europe/Berlin:20240529T200000
LOCATION:Deutsches Medizinhistorisches Museum\, Anatomiestraße 18 – 20\,
  85049 Ingolstadt
END:VEVENT
END:VCALENDAR
