BEGIN:VCALENDAR
VERSION:2.0
PRODID:-//Sabre//Sabre VObject 4.5.8//EN
CALSCALE:GREGORIAN
BEGIN:VEVENT
UID:sabre-vobject-1cc1712f-1cf5-4dd7-bc23-37a0a8e4841a
DTSTAMP:20260424T012246Z
SUMMARY:LUAN COMEDY SHOW
DESCRIPTION:https://regioningolstadt.com/luan-comedy-show_id32422
DTSTART;TZID=Europe/Berlin:20241220T200000
DTEND;TZID=Europe/Berlin:20241220T220000
LOCATION:eventhalle Westpark\, Am Westpark 2\, 85057 Ingolstadt
END:VEVENT
END:VCALENDAR
