BEGIN:VCALENDAR
VERSION:2.0
PRODID:-//Sabre//Sabre VObject 4.5.8//EN
CALSCALE:GREGORIAN
BEGIN:VEVENT
UID:sabre-vobject-5be41c73-013d-4815-b02e-c78b4de8eed7
DTSTAMP:20260419T124055Z
SUMMARY:Transform.10 SHIFT 2.0
DESCRIPTION:https://regioningolstadt.com/transform-10-shift-2-0_id32414
DTSTART;TZID=Europe/Berlin:20240416T180000
DTEND;TZID=Europe/Berlin:20240416T210000
LOCATION:Neues Dalwigk\, Schlosslände 27\, 85049 Ingolstadt
END:VEVENT
END:VCALENDAR
