BEGIN:VCALENDAR
VERSION:2.0
PRODID:-//Sabre//Sabre VObject 4.5.8//EN
CALSCALE:GREGORIAN
BEGIN:VEVENT
UID:sabre-vobject-84285f4c-f3b2-4974-bd39-b37abaf24d84
DTSTAMP:20260421T000036Z
SUMMARY:Erlebnisradtour Donau:
DESCRIPTION:https://regioningolstadt.com/erlebnisradtour-donau_id32332
DTSTART;TZID=Europe/Berlin:20240414T133000
DTEND;TZID=Europe/Berlin:20240414T170000
LOCATION:Vor Tourist Information am Rathausplatz\, Moritzstraße 19\, 85049
  Ingolstadt
END:VEVENT
END:VCALENDAR
