BEGIN:VCALENDAR
VERSION:2.0
PRODID:-//Sabre//Sabre VObject 4.5.8//EN
CALSCALE:GREGORIAN
BEGIN:VEVENT
UID:sabre-vobject-c833ba0c-ce39-43e7-8198-4ced5e129ce8
DTSTAMP:20260420T115724Z
SUMMARY:Essbare Wildpflanzen-Workshop
DESCRIPTION:https://regioningolstadt.com/essbare-wildpflanzen-workshop_id32
 331
DTSTART;TZID=Europe/Berlin:20240413T153000
DTEND;TZID=Europe/Berlin:20240413T183000
LOCATION:Piuspark\, Pavillon Imkerverein\, \, 85057 Ingolstadt
END:VEVENT
END:VCALENDAR
