BEGIN:VCALENDAR
VERSION:2.0
PRODID:-//Sabre//Sabre VObject 4.5.8//EN
CALSCALE:GREGORIAN
BEGIN:VEVENT
UID:sabre-vobject-0458b91e-f3d5-4977-8473-c9899c06d2f4
DTSTAMP:20260424T154003Z
SUMMARY:Orgelkonzert mit Luise Künzl
DESCRIPTION:https://regioningolstadt.com/orgelkonzert-mit-luise-kuenzl_id32
 310
DTSTART;TZID=Europe/Berlin:20240607T193000
DURATION:PT30M
LOCATION:Pfarrkirche St. Anton\, Münchener Straße 40\, 85051 Ingolstadt
END:VEVENT
END:VCALENDAR
