BEGIN:VCALENDAR
VERSION:2.0
PRODID:-//Sabre//Sabre VObject 4.5.8//EN
CALSCALE:GREGORIAN
BEGIN:VEVENT
UID:sabre-vobject-1d0aa37e-4ff3-4ce4-af22-4c581aec08ee
DTSTAMP:20260420T161313Z
SUMMARY:IT-Sicherheit und Datenschutz im digitalen Zeitalter - Expertentipp
 s für die Baubranche
DESCRIPTION:https://regioningolstadt.com/it-sicherheit-und-datenschutz-im-d
 igitalen-zeitalter-expertentipps-fuer-die-baubranche_id32301
DTSTART;TZID=Europe/Berlin:20240415T140000
DTEND;TZID=Europe/Berlin:20240415T153000
LOCATION:Online-Veranstaltung\, \,  
END:VEVENT
END:VCALENDAR
