BEGIN:VCALENDAR
VERSION:2.0
PRODID:-//Sabre//Sabre VObject 4.5.8//EN
CALSCALE:GREGORIAN
BEGIN:VEVENT
UID:sabre-vobject-75fd94bf-4d1f-4f91-ae67-52f11846523c
DTSTAMP:20260423T072113Z
SUMMARY:Zauberhafte Donaugeschichten (Kinderführung ab 6 Jahre)
DESCRIPTION:https://regioningolstadt.com/zauberhafte-donaugeschichten-kinde
 rfuehrung-ab-6-jahre_id32282
DTSTART;TZID=Europe/Berlin:20240721T140000
DTEND;TZID=Europe/Berlin:20240721T160000
LOCATION:Vor Tourist Information am Rathausplatz\, Moritzstraße 19\, 85049
  Ingolstadt
END:VEVENT
END:VCALENDAR
