BEGIN:VCALENDAR
VERSION:2.0
PRODID:-//Sabre//Sabre VObject 4.5.8//EN
CALSCALE:GREGORIAN
BEGIN:VEVENT
UID:sabre-vobject-c2bfbd80-07aa-4917-aef5-87d7bcb4d157
DTSTAMP:20260424T052521Z
SUMMARY:Offener Familientreff
DESCRIPTION:https://regioningolstadt.com/offener-familientreff_id32277
DTSTART;TZID=Europe/Berlin:20240614T143000
DTEND;TZID=Europe/Berlin:20240614T170000
LOCATION:Bürgerhaus Neuburger Kasten\, Fechtgasse 6\, 85049 Ingolstadt
END:VEVENT
END:VCALENDAR
