BEGIN:VCALENDAR
VERSION:2.0
PRODID:-//Sabre//Sabre VObject 4.5.8//EN
CALSCALE:GREGORIAN
BEGIN:VEVENT
UID:sabre-vobject-22502ae1-a319-4849-b12f-8e7450910a31
DTSTAMP:20260421T045641Z
SUMMARY:Wo der Panther Feuer spuckt!
DESCRIPTION:https://regioningolstadt.com/wo-der-panther-feuer-spuckt_id3227
 2
DTSTART;TZID=Europe/Berlin:20240414T140000
DTEND;TZID=Europe/Berlin:20240414T153000
LOCATION:Ludwigsbrunnen am Paradeplatz\, \,  
END:VEVENT
END:VCALENDAR
