BEGIN:VCALENDAR
VERSION:2.0
PRODID:-//Sabre//Sabre VObject 4.5.8//EN
CALSCALE:GREGORIAN
BEGIN:VEVENT
UID:sabre-vobject-42a7a991-81a6-4cce-9f66-c4d945549ab3
DTSTAMP:20260420T051849Z
SUMMARY:Die WestPark Sommer-Modenschau
DESCRIPTION:https://regioningolstadt.com/die-westpark-sommer-modenschau_id3
 2271
DTSTART;TZID=Europe/Berlin:20240413T120000
DTEND;TZID=Europe/Berlin:20240413T190000
LOCATION:Westpark Plaza\, Am Westpark 6\, 85057 Ingolstadt
END:VEVENT
END:VCALENDAR
